BEGIN:VCALENDAR
VERSION:2.0
PRODID:spatie/icalendar-generator
DESCRIPTION:Veranstaltungen von Royal Rangers Stamm 378 Berlin
X-WR-CALDESC:Veranstaltungen von Royal Rangers Stamm 378 Berlin
REFRESH-INTERVAL;VALUE=DURATION:PT1440M
X-PUBLISHED-TTL:PT1440M
BEGIN:VTIMEZONE
TZID:Europe/Berlin
BEGIN:STANDARD
DTSTART:20251026T030000Z
TZOFFSETFROM:+0200
TZOFFSETTO:+0100
END:STANDARD
BEGIN:DAYLIGHT
DTSTART:20260329T020000Z
TZOFFSETFROM:+0100
TZOFFSETTO:+0200
END:DAYLIGHT
END:VTIMEZONE
BEGIN:VTIMEZONE
TZID:UTC
BEGIN:STANDARD
DTSTART:20250728T140553Z
TZOFFSETFROM:+0000
TZOFFSETTO:+0000
END:STANDARD
END:VTIMEZONE
BEGIN:VEVENT
UID:3-2
DTSTAMP:20260424T140553Z
SUMMARY:Teamtreff
LOCATION:
ORGANIZER;CN=Abedi:MAILTO:abedi@posteo.de
DTSTART;TZID=Europe/Berlin:20260418T110000
DTEND;TZID=Europe/Berlin:20260418T133000
X-ALT-DESC;FMTTYPE=TEXT/HTML:
CATEGORIES:General
URL;VALUE=URI:https://rr378.de/mc-events/teamtreff/
METHOD:PUBLISH
END:VEVENT
END:VCALENDAR